BEGIN:VCALENDAR
VERSION:2.0
PRODID:-//rssny.org//NONSGML kigkonsult.se iCalcreator 2.30.10//
CALSCALE:GREGORIAN
METHOD:PUBLISH
UID:c68e1d8f-9e86-40c0-89c9-649d9b0aa0f2
X-WR-CALDESC:Join Margie to learn about what types of resources you can fin
 d online. \n\nYou can join in the center or online.
X-WR-RELCALID:a5a5879a4ea72a1fd383a9aaf30cab3a
X-WR-TIMEZONE:America/New_York
BEGIN:VTIMEZONE
TZID:America/New_York
BEGIN:STANDARD
TZNAME:EST
DTSTART:20241103T020000
TZOFFSETFROM:-0400
TZOFFSETTO:-0500
RDATE:20251102T020000
RDATE:20261101T020000
END:STANDARD
BEGIN:DAYLIGHT
TZNAME:EDT
DTSTART:20250309T020000
TZOFFSETFROM:-0500
TZOFFSETTO:-0400
RDATE:20260308T020000
RDATE:20270314T020000
END:DAYLIGHT
END:VTIMEZONE
BEGIN:VEVENT
UID:f497be0f-7bbc-48a3-94a9-a7b624826256
DTSTAMP:20260421T075227Z
DESCRIPTION:Join Margie to learn about what types of resources you can find
  online. \n\nYou can join in the center or online.
DTSTART;TZID=America/New_York:20250916T110000
DTEND;TZID=America/New_York:20250916T120000
LOCATION:
SUMMARY:Technology Resources with Margie (Hybrid)
END:VEVENT
END:VCALENDAR
