BEGIN:VCALENDAR
VERSION:2.0
PRODID:-//rssny.org//NONSGML kigkonsult.se iCalcreator 2.30.10//
CALSCALE:GREGORIAN
METHOD:PUBLISH
UID:db978ef9-e762-4bd2-81ad-a037bf608979
X-WR-CALDESC:
X-WR-RELCALID:b20b593fc6456139eba110f5264f5ac2
X-WR-TIMEZONE:America/New_York
BEGIN:VTIMEZONE
TZID:America/New_York
BEGIN:STANDARD
TZNAME:EST
DTSTART:20241103T020000
TZOFFSETFROM:-0400
TZOFFSETTO:-0500
RDATE:20251102T020000
RDATE:20261101T020000
END:STANDARD
BEGIN:DAYLIGHT
TZNAME:EDT
DTSTART:20250309T020000
TZOFFSETFROM:-0500
TZOFFSETTO:-0400
RDATE:20260308T020000
RDATE:20270314T020000
END:DAYLIGHT
END:VTIMEZONE
BEGIN:VEVENT
UID:f7325b78-c745-4095-953f-f666d96e1c41
DTSTAMP:20260421T075200Z
DESCRIPTION:
DTSTART;TZID=America/New_York:20250915T120000
DTEND;TZID=America/New_York:20250915T130000
LOCATION:2600 Netherland Avenue\, Bronx\, NY 10463 US
SUMMARY:Lunch In Center
END:VEVENT
END:VCALENDAR
