BEGIN:VCALENDAR
VERSION:2.0
PRODID:-//rssny.org//NONSGML kigkonsult.se iCalcreator 2.30.10//
CALSCALE:GREGORIAN
METHOD:PUBLISH
UID:cddcf1c9-75b7-4a1f-a3d2-6dd1cd084aae
X-WR-CALDESC:
X-WR-RELCALID:e44175c5783e7416aa908515ffa9a516
X-WR-TIMEZONE:America/New_York
BEGIN:VTIMEZONE
TZID:America/New_York
BEGIN:STANDARD
TZNAME:EST
DTSTART:20241103T020000
TZOFFSETFROM:-0400
TZOFFSETTO:-0500
RDATE:20251102T020000
RDATE:20261101T020000
END:STANDARD
BEGIN:DAYLIGHT
TZNAME:EDT
DTSTART:20250309T020000
TZOFFSETFROM:-0500
TZOFFSETTO:-0400
RDATE:20260308T020000
END:DAYLIGHT
END:VTIMEZONE
BEGIN:VEVENT
UID:2523da7d-a1ad-42ee-a33d-876c2d8602a2
DTSTAMP:20260421T075911Z
DESCRIPTION:
DTSTART;TZID=America/New_York:20250910T130000
DTEND;TZID=America/New_York:20250910T150000
LOCATION:
SUMMARY:Movies In Center: Calendar Girls
END:VEVENT
END:VCALENDAR
