BEGIN:VCALENDAR
VERSION:2.0
PRODID:-//rssny.org//NONSGML kigkonsult.se iCalcreator 2.30.10//
CALSCALE:GREGORIAN
METHOD:PUBLISH
UID:01e5563b-0ffd-4d47-ae41-2c649eadb35b
X-WR-CALDESC:
X-WR-RELCALID:3e2a15451c1f3ea6e9814920cf602f30
X-WR-TIMEZONE:America/New_York
BEGIN:VTIMEZONE
TZID:America/New_York
BEGIN:STANDARD
TZNAME:EST
DTSTART:20241103T020000
TZOFFSETFROM:-0400
TZOFFSETTO:-0500
RDATE:20251102T020000
RDATE:20261101T020000
END:STANDARD
BEGIN:DAYLIGHT
TZNAME:EDT
DTSTART:20250309T020000
TZOFFSETFROM:-0500
TZOFFSETTO:-0400
RDATE:20260308T020000
END:DAYLIGHT
END:VTIMEZONE
BEGIN:VEVENT
UID:026259d0-b6eb-483e-ae89-39e08c03b67c
DTSTAMP:20260421T075058Z
DESCRIPTION:
DTSTART;TZID=America/New_York:20250905T120000
DTEND;TZID=America/New_York:20250905T130000
LOCATION:
SUMMARY:Lunch In Center
END:VEVENT
END:VCALENDAR
