BEGIN:VCALENDAR
VERSION:2.0
PRODID:-//rssny.org//NONSGML kigkonsult.se iCalcreator 2.30.10//
CALSCALE:GREGORIAN
METHOD:PUBLISH
UID:2516fd58-b2f8-4979-a517-6fd490e60597
X-WR-CALDESC:
X-WR-RELCALID:5e5ab5fcd43838f7227ddffe0d5c3025
X-WR-TIMEZONE:America/New_York
BEGIN:VTIMEZONE
TZID:America/New_York
BEGIN:STANDARD
TZNAME:EST
DTSTART:20241103T020000
TZOFFSETFROM:-0400
TZOFFSETTO:-0500
RDATE:20251102T020000
RDATE:20261101T020000
END:STANDARD
BEGIN:DAYLIGHT
TZNAME:EDT
DTSTART:20250309T020000
TZOFFSETFROM:-0500
TZOFFSETTO:-0400
RDATE:20260308T020000
END:DAYLIGHT
END:VTIMEZONE
BEGIN:VEVENT
UID:06d1ea07-c991-445d-8abe-091901be2c6c
DTSTAMP:20260421T075609Z
DESCRIPTION:
DTSTART;TZID=America/New_York:20250903T130000
DTEND;TZID=America/New_York:20250903T150000
LOCATION:
SUMMARY:Movies In Center: The Intern
END:VEVENT
END:VCALENDAR
