BEGIN:VCALENDAR
VERSION:2.0
PRODID:-//rssny.org//NONSGML kigkonsult.se iCalcreator 2.30.10//
CALSCALE:GREGORIAN
METHOD:PUBLISH
UID:17b534a6-d360-4542-af4d-9c496dd90887
X-WR-CALDESC:Filling in for Donald\, until his return to RSS\, is Social Wo
 rk Intern\, Cynthia Caceres.
X-WR-RELCALID:07887afb1d71d262e09074ac272e7750
X-WR-TIMEZONE:America/New_York
BEGIN:VTIMEZONE
TZID:America/New_York
BEGIN:STANDARD
TZNAME:EST
DTSTART:20241103T020000
TZOFFSETFROM:-0400
TZOFFSETTO:-0500
RDATE:20251102T020000
RDATE:20261101T020000
END:STANDARD
BEGIN:DAYLIGHT
TZNAME:EDT
DTSTART:20250309T020000
TZOFFSETFROM:-0500
TZOFFSETTO:-0400
RDATE:20260308T020000
END:DAYLIGHT
END:VTIMEZONE
BEGIN:VEVENT
UID:ea46cb05-a2d5-491b-9d8a-a75e8a85a2d8
DTSTAMP:20260421T075634Z
DESCRIPTION:Filling in for Donald\, until his return to RSS\, is Social Wor
 k Intern\, Cynthia Caceres.
DTSTART;TZID=America/New_York:20250902T100000
DTEND;TZID=America/New_York:20250902T110000
LOCATION:
SUMMARY:Memoir Writing with Donald (In Center)
END:VEVENT
END:VCALENDAR
