BEGIN:VCALENDAR
VERSION:2.0
PRODID:-//rssny.org//NONSGML kigkonsult.se iCalcreator 2.30.10//
CALSCALE:GREGORIAN
METHOD:PUBLISH
UID:5dceda42-9843-4f56-8227-a25e34fc508b
X-WR-CALDESC:\n
X-WR-RELCALID:f2ce018872c62a458d53ff9b95f166ce
X-WR-TIMEZONE:America/New_York
BEGIN:VTIMEZONE
TZID:America/New_York
BEGIN:STANDARD
TZNAME:EST
DTSTART:20241103T020000
TZOFFSETFROM:-0400
TZOFFSETTO:-0500
RDATE:20251102T020000
RDATE:20261101T020000
END:STANDARD
BEGIN:DAYLIGHT
TZNAME:EDT
DTSTART:20250309T020000
TZOFFSETFROM:-0500
TZOFFSETTO:-0400
RDATE:20260308T020000
END:DAYLIGHT
END:VTIMEZONE
BEGIN:VEVENT
UID:425f80a7-f56f-4203-8927-ae07c8440027
DTSTAMP:20260421T075200Z
DESCRIPTION:\n
DTSTART;TZID=America/New_York:20250902T100000
DTEND;TZID=America/New_York:20250902T110000
LOCATION:
SUMMARY:Blood Pressure Testing (In Center
END:VEVENT
END:VCALENDAR
