BEGIN:VCALENDAR
VERSION:2.0
PRODID:-//rssny.org//NONSGML kigkonsult.se iCalcreator 2.30.10//
CALSCALE:GREGORIAN
METHOD:PUBLISH
UID:fdad4f7e-104b-4ca4-8ab0-3e73063be2ee
X-WR-CALDESC:
X-WR-RELCALID:b37df09890c0a57065d555bbcf2c03dd
X-WR-TIMEZONE:America/New_York
BEGIN:VTIMEZONE
TZID:America/New_York
BEGIN:STANDARD
TZNAME:EST
DTSTART:20241103T020000
TZOFFSETFROM:-0400
TZOFFSETTO:-0500
RDATE:20251102T020000
RDATE:20261101T020000
END:STANDARD
BEGIN:DAYLIGHT
TZNAME:EDT
DTSTART:20250309T020000
TZOFFSETFROM:-0500
TZOFFSETTO:-0400
RDATE:20260308T020000
END:DAYLIGHT
END:VTIMEZONE
BEGIN:VEVENT
UID:304fd941-b01e-4644-97c5-cd34b47ae3ed
DTSTAMP:20260421T075059Z
DESCRIPTION:
DTSTART;TZID=America/New_York:20250901T060000
DTEND;TZID=America/New_York:20250901T060001
LOCATION:
SUMMARY:CENTER CLOSED - Labor Day
END:VEVENT
END:VCALENDAR
