BEGIN:VCALENDAR
VERSION:2.0
PRODID:-//rssny.org//NONSGML kigkonsult.se iCalcreator 2.30.10//
CALSCALE:GREGORIAN
METHOD:PUBLISH
UID:f283fa37-885c-4c4e-adde-33cc19484559
X-WR-CALDESC:Join chorus and sing with the remarkable soprano Cheryl Warfie
 ld. Listen to her beautiful voice here - https://youtu.be/7stskbP6qa0\n\nY
 ou will get the joy of singing and the opportunity to learn not only from 
 a great singer\, but an accomplished teacher as well.\n\nLearn more about 
 Cheryl by going to her website - https://www.cherylwarfield.nyc/
X-WR-RELCALID:af7f46fb0c93865b061e54898649f7cd
X-WR-TIMEZONE:America/New_York
BEGIN:VTIMEZONE
TZID:America/New_York
BEGIN:STANDARD
TZNAME:EST
DTSTART:20241103T020000
TZOFFSETFROM:-0400
TZOFFSETTO:-0500
RDATE:20251102T020000
RDATE:20261101T020000
END:STANDARD
BEGIN:DAYLIGHT
TZNAME:EDT
DTSTART:20250309T020000
TZOFFSETFROM:-0500
TZOFFSETTO:-0400
RDATE:20260308T020000
END:DAYLIGHT
END:VTIMEZONE
BEGIN:VEVENT
UID:a507cd8c-d0ae-4ef6-b01e-6c936c209173
DTSTAMP:20260421T092136Z
DESCRIPTION:Join chorus and sing with the remarkable soprano Cheryl Warfiel
 d. Listen to her beautiful voice here - https://youtu.be/7stskbP6qa0\n\nYo
 u will get the joy of singing and the opportunity to learn not only from a
  great singer\, but an accomplished teacher as well.\n\nLearn more about C
 heryl by going to her website - https://www.cherylwarfield.nyc/
DTSTART;TZID=America/New_York:20250828T130000
DTEND;TZID=America/New_York:20250828T140000
LOCATION:
SUMMARY:Chorus with Cheryl (IN CENTER)
END:VEVENT
END:VCALENDAR
