BEGIN:VCALENDAR
VERSION:2.0
PRODID:-//rssny.org//NONSGML kigkonsult.se iCalcreator 2.30.10//
CALSCALE:GREGORIAN
METHOD:PUBLISH
UID:817286ae-09dd-4e4f-898a-2967b9240fd7
X-WR-CALDESC:Weekly non-competitive bridge game
X-WR-RELCALID:73ccbaf04e3d8772f03cf906edca1ef3
X-WR-TIMEZONE:America/New_York
BEGIN:VTIMEZONE
TZID:America/New_York
BEGIN:STANDARD
TZNAME:EST
DTSTART:20241103T020000
TZOFFSETFROM:-0400
TZOFFSETTO:-0500
RDATE:20251102T020000
RDATE:20261101T020000
END:STANDARD
BEGIN:DAYLIGHT
TZNAME:EDT
DTSTART:20250309T020000
TZOFFSETFROM:-0500
TZOFFSETTO:-0400
RDATE:20260308T020000
END:DAYLIGHT
END:VTIMEZONE
BEGIN:VEVENT
UID:23dcf0b5-caf3-4f2b-8d77-3f83669721ee
DTSTAMP:20260421T092253Z
DESCRIPTION:Weekly non-competitive bridge game
DTSTART;TZID=America/New_York:20250822T140000
DTEND;TZID=America/New_York:20250822T163000
LOCATION:
SUMMARY:Leisure Games Bridge (In Center)
END:VEVENT
END:VCALENDAR
