BEGIN:VCALENDAR
VERSION:2.0
PRODID:-//rssny.org//NONSGML kigkonsult.se iCalcreator 2.30.10//
CALSCALE:GREGORIAN
METHOD:PUBLISH
UID:076daf81-4a42-42d9-80ed-0fe1039139ad
X-WR-CALDESC:
X-WR-RELCALID:2e0fd87e52681f3d86843b960820c80f
X-WR-TIMEZONE:America/New_York
BEGIN:VTIMEZONE
TZID:America/New_York
BEGIN:STANDARD
TZNAME:EST
DTSTART:20241103T020000
TZOFFSETFROM:-0400
TZOFFSETTO:-0500
RDATE:20251102T020000
RDATE:20261101T020000
END:STANDARD
BEGIN:DAYLIGHT
TZNAME:EDT
DTSTART:20250309T020000
TZOFFSETFROM:-0500
TZOFFSETTO:-0400
RDATE:20260308T020000
END:DAYLIGHT
END:VTIMEZONE
BEGIN:VEVENT
UID:93380004-7009-4fd5-8073-97ddc599a4a2
DTSTAMP:20260421T092415Z
DESCRIPTION:
DTSTART;TZID=America/New_York:20250822T120000
DTEND;TZID=America/New_York:20250822T130000
LOCATION:
SUMMARY:Lunch In Center: Birthday Party with DJ
END:VEVENT
END:VCALENDAR
