BEGIN:VCALENDAR
VERSION:2.0
PRODID:-//rssny.org//NONSGML kigkonsult.se iCalcreator 2.30.10//
CALSCALE:GREGORIAN
METHOD:PUBLISH
UID:1a413412-e8a4-4db3-b811-e18e81222232
X-WR-CALDESC:Learn to speak English confidently in a fun and supportive env
 ironment. Our classes are designed for people of all levels\, and we focus
  on everyday conversation topics.
X-WR-RELCALID:1e6ed3f3e812ebf96a62f4ad40415569
X-WR-TIMEZONE:America/New_York
BEGIN:VTIMEZONE
TZID:America/New_York
BEGIN:STANDARD
TZNAME:EST
DTSTART:20241103T020000
TZOFFSETFROM:-0400
TZOFFSETTO:-0500
RDATE:20251102T020000
RDATE:20261101T020000
END:STANDARD
BEGIN:DAYLIGHT
TZNAME:EDT
DTSTART:20250309T020000
TZOFFSETFROM:-0500
TZOFFSETTO:-0400
RDATE:20260308T020000
END:DAYLIGHT
END:VTIMEZONE
BEGIN:VEVENT
UID:f02f3f66-9b12-43f9-b535-cd7e71c72e19
DTSTAMP:20260421T092114Z
DESCRIPTION:Learn to speak English confidently in a fun and supportive envi
 ronment. Our classes are designed for people of all levels\, and we focus 
 on everyday conversation topics.
DTSTART;TZID=America/New_York:20250821T093000
DTEND;TZID=America/New_York:20250821T103000
LOCATION:
SUMMARY:Conversational English (In Center)
END:VEVENT
END:VCALENDAR
