BEGIN:VCALENDAR
VERSION:2.0
PRODID:-//rssny.org//NONSGML kigkonsult.se iCalcreator 2.30.10//
CALSCALE:GREGORIAN
METHOD:PUBLISH
UID:1f62f3e7-005a-4c56-8fa6-f64166bb899d
X-WR-CALDESC:
X-WR-RELCALID:98e067a360af4d52480fbafc639876ce
X-WR-TIMEZONE:America/New_York
BEGIN:VTIMEZONE
TZID:America/New_York
BEGIN:STANDARD
TZNAME:EST
DTSTART:20241103T020000
TZOFFSETFROM:-0400
TZOFFSETTO:-0500
RDATE:20251102T020000
RDATE:20261101T020000
END:STANDARD
BEGIN:DAYLIGHT
TZNAME:EDT
DTSTART:20250309T020000
TZOFFSETFROM:-0500
TZOFFSETTO:-0400
RDATE:20260308T020000
END:DAYLIGHT
END:VTIMEZONE
BEGIN:VEVENT
UID:a4bd6d35-8feb-4ce0-b93c-cf966c58dac8
DTSTAMP:20260421T092549Z
DESCRIPTION:
DTSTART;TZID=America/New_York:20250820T130000
DTEND;TZID=America/New_York:20250820T140000
LOCATION:
SUMMARY:Concerts in Motion: Chinese (This is not an RSS event)
END:VEVENT
END:VCALENDAR
