BEGIN:VCALENDAR
VERSION:2.0
PRODID:-//rssny.org//NONSGML kigkonsult.se iCalcreator 2.30.10//
CALSCALE:GREGORIAN
METHOD:PUBLISH
UID:5b40dbdb-2491-437f-a87a-a8c5feca38d4
X-WR-CALDESC:This class is in the center.\n\nLevel: Beginner\n\nThe session
  is led by Tabitha Rosa\, the RSS Tech Specialist and Digital Engagement C
 oordinator.
X-WR-RELCALID:03f57856e0660081a8ed78a15e0f730a
X-WR-TIMEZONE:America/New_York
BEGIN:VTIMEZONE
TZID:America/New_York
BEGIN:STANDARD
TZNAME:EST
DTSTART:20241103T020000
TZOFFSETFROM:-0400
TZOFFSETTO:-0500
RDATE:20251102T020000
RDATE:20261101T020000
END:STANDARD
BEGIN:DAYLIGHT
TZNAME:EDT
DTSTART:20250309T020000
TZOFFSETFROM:-0500
TZOFFSETTO:-0400
RDATE:20260308T020000
END:DAYLIGHT
END:VTIMEZONE
BEGIN:VEVENT
UID:3162e139-ea5a-4bd3-a7bd-19db9f6e4258
DTSTAMP:20260421T092120Z
DESCRIPTION:This class is in the center.\n\nLevel: Beginner\n\nThe session 
 is led by Tabitha Rosa\, the RSS Tech Specialist and Digital Engagement Co
 ordinator.
DTSTART;TZID=America/New_York:20250819T110000
DTEND;TZID=America/New_York:20250819T120000
LOCATION:
SUMMARY:NO CLASS TODAY Tech How to: IN CENTER)
END:VEVENT
END:VCALENDAR
