BEGIN:VCALENDAR
VERSION:2.0
PRODID:-//rssny.org//NONSGML kigkonsult.se iCalcreator 2.30.10//
CALSCALE:GREGORIAN
METHOD:PUBLISH
UID:6c513d01-c041-47f0-bb69-3b840b4afa50
X-WR-CALDESC:
X-WR-RELCALID:8c5c6c8a994339c71e9e48c9b547b754
X-WR-TIMEZONE:America/New_York
BEGIN:VTIMEZONE
TZID:America/New_York
BEGIN:STANDARD
TZNAME:EST
DTSTART:20241103T020000
TZOFFSETFROM:-0400
TZOFFSETTO:-0500
RDATE:20251102T020000
RDATE:20261101T020000
END:STANDARD
BEGIN:DAYLIGHT
TZNAME:EDT
DTSTART:20250309T020000
TZOFFSETFROM:-0500
TZOFFSETTO:-0400
RDATE:20260308T020000
END:DAYLIGHT
END:VTIMEZONE
BEGIN:VEVENT
UID:69dbdbce-ff02-4c77-8ac7-8f6cc8ee9e5b
DTSTAMP:20260421T091933Z
DESCRIPTION:
DTSTART;TZID=America/New_York:20250818T120000
DTEND;TZID=America/New_York:20250818T130000
LOCATION:2600 Netherland Avenue\, Bronx\, NY 10463 US
SUMMARY:Lunch In Center
END:VEVENT
END:VCALENDAR
