BEGIN:VCALENDAR
VERSION:2.0
PRODID:-//rssny.org//NONSGML kigkonsult.se iCalcreator 2.30.10//
CALSCALE:GREGORIAN
METHOD:PUBLISH
UID:29d293f8-6a5f-4376-b928-0d9625ca5e82
X-WR-CALDESC:Weekly non-competitive bridge game
X-WR-RELCALID:d0f0b715fe49089ff41526c093ca12fe
X-WR-TIMEZONE:America/New_York
BEGIN:VTIMEZONE
TZID:America/New_York
BEGIN:STANDARD
TZNAME:EST
DTSTART:20241103T020000
TZOFFSETFROM:-0400
TZOFFSETTO:-0500
RDATE:20251102T020000
RDATE:20261101T020000
END:STANDARD
BEGIN:DAYLIGHT
TZNAME:EDT
DTSTART:20250309T020000
TZOFFSETFROM:-0500
TZOFFSETTO:-0400
RDATE:20260308T020000
END:DAYLIGHT
END:VTIMEZONE
BEGIN:VEVENT
UID:465d0a8a-1898-487e-817b-1779c627bbb2
DTSTAMP:20260421T092259Z
DESCRIPTION:Weekly non-competitive bridge game
DTSTART;TZID=America/New_York:20250815T140000
DTEND;TZID=America/New_York:20250815T163000
LOCATION:
SUMMARY:Leisure Games Bridge (In Center)
END:VEVENT
END:VCALENDAR
