BEGIN:VCALENDAR
VERSION:2.0
PRODID:-//rssny.org//NONSGML kigkonsult.se iCalcreator 2.30.10//
CALSCALE:GREGORIAN
METHOD:PUBLISH
UID:52a54e34-584a-4775-9a25-b9d5674d4aeb
X-WR-CALDESC:Join us for breakfast at the Center!
X-WR-RELCALID:af2bb3e6be092a4ba9fd9672e192a4ed
X-WR-TIMEZONE:America/New_York
BEGIN:VTIMEZONE
TZID:America/New_York
BEGIN:STANDARD
TZNAME:EST
DTSTART:20241103T020000
TZOFFSETFROM:-0400
TZOFFSETTO:-0500
RDATE:20251102T020000
RDATE:20261101T020000
END:STANDARD
BEGIN:DAYLIGHT
TZNAME:EDT
DTSTART:20250309T020000
TZOFFSETFROM:-0500
TZOFFSETTO:-0400
RDATE:20260308T020000
END:DAYLIGHT
END:VTIMEZONE
BEGIN:VEVENT
UID:08191f24-2de4-4b6c-9286-484421f39df4
DTSTAMP:20260421T092015Z
DESCRIPTION:Join us for breakfast at the Center!
DTSTART;TZID=America/New_York:20250813T090000
DTEND;TZID=America/New_York:20250813T100000
LOCATION:
SUMMARY:Breakfast Club (In Center)
END:VEVENT
END:VCALENDAR
