BEGIN:VCALENDAR
VERSION:2.0
PRODID:-//rssny.org//NONSGML kigkonsult.se iCalcreator 2.30.10//
CALSCALE:GREGORIAN
METHOD:PUBLISH
UID:4eb0256b-0e5a-43b5-a240-01381a85cb7a
X-WR-CALDESC:To register: https://rssny.org/class-forms/health-talks.html\n
 \nMeet with a NY Presbyterian Cardiologist to learn about:\n- Keeping your
  heart healthy\n-  Medications\n- Questions to ask your doctor\n- and more
 ...
X-WR-RELCALID:347df3a504b48369dac370fe5c79c4e5
X-WR-TIMEZONE:America/New_York
BEGIN:VTIMEZONE
TZID:America/New_York
BEGIN:STANDARD
TZNAME:EST
DTSTART:20241103T020000
TZOFFSETFROM:-0400
TZOFFSETTO:-0500
RDATE:20251102T020000
RDATE:20261101T020000
END:STANDARD
BEGIN:DAYLIGHT
TZNAME:EDT
DTSTART:20250309T020000
TZOFFSETFROM:-0500
TZOFFSETTO:-0400
RDATE:20260308T020000
END:DAYLIGHT
END:VTIMEZONE
BEGIN:VEVENT
UID:439954b2-2488-432c-a6a2-de44515fe1f6
DTSTAMP:20260421T092300Z
DESCRIPTION:To register: https://rssny.org/class-forms/health-talks.html\n
 \nMeet with a NY Presbyterian Cardiologist to learn about:\n- Keeping your
  heart healthy\n-  Medications\n- Questions to ask your doctor\n- and more
 ...
DTSTART;TZID=America/New_York:20250811T110000
DTEND;TZID=America/New_York:20250811T120000
LOCATION:https://rssny.org/class-forms/health-talks.html
SUMMARY:Meet the Cardiologist - NY Presbyterian (Hybrid)
END:VEVENT
END:VCALENDAR
