BEGIN:VCALENDAR
VERSION:2.0
PRODID:-//rssny.org//NONSGML kigkonsult.se iCalcreator 2.30.10//
CALSCALE:GREGORIAN
METHOD:PUBLISH
UID:62845254-8bd1-4501-971f-ba4ad533d418
X-WR-CALDESC:Join us for a fun time and try out tap dancing\n\nNO prior dan
 ce experience or materials are needed.
X-WR-RELCALID:dfc92125a8f1cf365dd0d38a700b2e17
X-WR-TIMEZONE:America/New_York
BEGIN:VTIMEZONE
TZID:America/New_York
BEGIN:STANDARD
TZNAME:EST
DTSTART:20241103T020000
TZOFFSETFROM:-0400
TZOFFSETTO:-0500
RDATE:20251102T020000
RDATE:20261101T020000
END:STANDARD
BEGIN:DAYLIGHT
TZNAME:EDT
DTSTART:20250309T020000
TZOFFSETFROM:-0500
TZOFFSETTO:-0400
RDATE:20260308T020000
END:DAYLIGHT
END:VTIMEZONE
BEGIN:VEVENT
UID:f1e6135c-9d52-4d21-a104-d33824d5190b
DTSTAMP:20260421T092046Z
DESCRIPTION:Join us for a fun time and try out tap dancing\n\nNO prior danc
 e experience or materials are needed.
DTSTART;TZID=America/New_York:20250811T110000
DTEND;TZID=America/New_York:20250811T120000
LOCATION:
SUMMARY:Tap Dancing with Maria (IN CENTER)
END:VEVENT
END:VCALENDAR
