BEGIN:VCALENDAR
VERSION:2.0
PRODID:-//rssny.org//NONSGML kigkonsult.se iCalcreator 2.30.10//
CALSCALE:GREGORIAN
METHOD:PUBLISH
UID:1be7924d-8037-4e81-88cd-fb7361fa44ee
X-WR-CALDESC:Learn to speak English confidently in a fun and supportive env
 ironment. Our classes are designed for people of all levels\, and we focus
  on everyday conversation topics.
X-WR-RELCALID:f4f4eb3efd69dbd9be90c4b9da5849ed
X-WR-TIMEZONE:America/New_York
BEGIN:VTIMEZONE
TZID:America/New_York
BEGIN:STANDARD
TZNAME:EST
DTSTART:20241103T020000
TZOFFSETFROM:-0400
TZOFFSETTO:-0500
RDATE:20251102T020000
RDATE:20261101T020000
END:STANDARD
BEGIN:DAYLIGHT
TZNAME:EDT
DTSTART:20250309T020000
TZOFFSETFROM:-0500
TZOFFSETTO:-0400
RDATE:20260308T020000
END:DAYLIGHT
END:VTIMEZONE
BEGIN:VEVENT
UID:bbe7eac0-2d9e-47c5-81c3-9e703993e42e
DTSTAMP:20260421T092136Z
DESCRIPTION:Learn to speak English confidently in a fun and supportive envi
 ronment. Our classes are designed for people of all levels\, and we focus 
 on everyday conversation topics.
DTSTART;TZID=America/New_York:20250807T093000
DTEND;TZID=America/New_York:20250807T103000
LOCATION:
SUMMARY:Conversational English (In Center)
END:VEVENT
END:VCALENDAR
