BEGIN:VCALENDAR
VERSION:2.0
PRODID:-//rssny.org//NONSGML kigkonsult.se iCalcreator 2.30.10//
CALSCALE:GREGORIAN
METHOD:PUBLISH
UID:23f4acd5-5b6c-46d6-b9a9-8759347a9c17
X-WR-CALDESC:Join us for breakfast at the Center!
X-WR-RELCALID:e6d153190bcd56da58ea2184c2ade327
X-WR-TIMEZONE:America/New_York
BEGIN:VTIMEZONE
TZID:America/New_York
BEGIN:STANDARD
TZNAME:EST
DTSTART:20241103T020000
TZOFFSETFROM:-0400
TZOFFSETTO:-0500
RDATE:20251102T020000
RDATE:20261101T020000
END:STANDARD
BEGIN:DAYLIGHT
TZNAME:EDT
DTSTART:20250309T020000
TZOFFSETFROM:-0500
TZOFFSETTO:-0400
RDATE:20260308T020000
END:DAYLIGHT
END:VTIMEZONE
BEGIN:VEVENT
UID:41fd1f3c-f651-4917-b69c-f2524be3295c
DTSTAMP:20260421T092113Z
DESCRIPTION:Join us for breakfast at the Center!
DTSTART;TZID=America/New_York:20250806T090000
DTEND;TZID=America/New_York:20250806T100000
LOCATION:
SUMMARY:Breakfast Club (In Center)
END:VEVENT
END:VCALENDAR
