BEGIN:VCALENDAR
VERSION:2.0
PRODID:-//rssny.org//NONSGML kigkonsult.se iCalcreator 2.30.10//
CALSCALE:GREGORIAN
METHOD:PUBLISH
UID:b1cbd790-b276-48e1-9bba-95482f14176d
X-WR-CALDESC:Filling in for Donald\, until his return to RSS\, is Social Wo
 rk Intern\, Cynthia Caceres.
X-WR-RELCALID:50058713ad1910c41351b56c42d27dea
X-WR-TIMEZONE:America/New_York
BEGIN:VTIMEZONE
TZID:America/New_York
BEGIN:STANDARD
TZNAME:EST
DTSTART:20241103T020000
TZOFFSETFROM:-0400
TZOFFSETTO:-0500
RDATE:20251102T020000
RDATE:20261101T020000
END:STANDARD
BEGIN:DAYLIGHT
TZNAME:EDT
DTSTART:20250309T020000
TZOFFSETFROM:-0500
TZOFFSETTO:-0400
RDATE:20260308T020000
END:DAYLIGHT
END:VTIMEZONE
BEGIN:VEVENT
UID:56e82d32-ee99-4698-887d-4e1ac396f5fc
DTSTAMP:20260421T092551Z
DESCRIPTION:Filling in for Donald\, until his return to RSS\, is Social Wor
 k Intern\, Cynthia Caceres.
DTSTART;TZID=America/New_York:20250805T100000
DTEND;TZID=America/New_York:20250805T110000
LOCATION:
SUMMARY:Memoir Writing with Donald (In Center)
END:VEVENT
END:VCALENDAR
