BEGIN:VCALENDAR
VERSION:2.0
PRODID:-//rssny.org//NONSGML kigkonsult.se iCalcreator 2.30.10//
CALSCALE:GREGORIAN
METHOD:PUBLISH
UID:e1816344-c06a-4ce3-b65a-39682880b331
X-WR-CALDESC:This class is online.\n\nLevel: Beginner\n\nThe session is led
  by Tabitha Rosa\, the RSS Tech Specialist and Digital Engagement Coordina
 tor.
X-WR-RELCALID:364b5fbdc060fa1943bb0da71f1c9817
X-WR-TIMEZONE:America/New_York
BEGIN:VTIMEZONE
TZID:America/New_York
BEGIN:STANDARD
TZNAME:EST
DTSTART:20241103T020000
TZOFFSETFROM:-0400
TZOFFSETTO:-0500
RDATE:20251102T020000
RDATE:20261101T020000
END:STANDARD
BEGIN:DAYLIGHT
TZNAME:EDT
DTSTART:20250309T020000
TZOFFSETFROM:-0500
TZOFFSETTO:-0400
RDATE:20260308T020000
END:DAYLIGHT
END:VTIMEZONE
BEGIN:VEVENT
UID:e872acf8-c56c-4e1c-8be9-c7789998857c
DTSTAMP:20260421T105316Z
DESCRIPTION:This class is online.\n\nLevel: Beginner\n\nThe session is led 
 by Tabitha Rosa\, the RSS Tech Specialist and Digital Engagement Coordinat
 or.
DTSTART;TZID=America/New_York:20250731T110000
DTEND;TZID=America/New_York:20250731T120000
LOCATION:
SUMMARY:Tech How-To's: AI Made Simple (ONLINE)
END:VEVENT
END:VCALENDAR
