BEGIN:VCALENDAR
VERSION:2.0
PRODID:-//rssny.org//NONSGML kigkonsult.se iCalcreator 2.30.10//
CALSCALE:GREGORIAN
METHOD:PUBLISH
UID:d305d06f-5430-4c04-98ef-45968805f1ef
X-WR-CALDESC:Join us for breakfast at the Center!
X-WR-RELCALID:cae1d427e4f29df5a7d6e6ef54a2317b
X-WR-TIMEZONE:America/New_York
BEGIN:VTIMEZONE
TZID:America/New_York
BEGIN:STANDARD
TZNAME:EST
DTSTART:20241103T020000
TZOFFSETFROM:-0400
TZOFFSETTO:-0500
RDATE:20251102T020000
RDATE:20261101T020000
END:STANDARD
BEGIN:DAYLIGHT
TZNAME:EDT
DTSTART:20250309T020000
TZOFFSETFROM:-0500
TZOFFSETTO:-0400
RDATE:20260308T020000
END:DAYLIGHT
END:VTIMEZONE
BEGIN:VEVENT
UID:3bc87f7f-5f90-48a6-9058-6df719c50700
DTSTAMP:20260421T104743Z
DESCRIPTION:Join us for breakfast at the Center!
DTSTART;TZID=America/New_York:20250730T090000
DTEND;TZID=America/New_York:20250730T100000
LOCATION:
SUMMARY:Breakfast Club (In Center)
END:VEVENT
END:VCALENDAR
