BEGIN:VCALENDAR
VERSION:2.0
PRODID:-//rssny.org//NONSGML kigkonsult.se iCalcreator 2.30.10//
CALSCALE:GREGORIAN
METHOD:PUBLISH
UID:e07024be-b239-4c64-9934-65a79b8b389b
X-WR-CALDESC:Join us on select Fridays through the summer for Decades of Fu
 n!\nName That Tunes: (50s Edition): We will Play short snippets of 50s hit
 s and have people guess the song and artist.
X-WR-RELCALID:015f8aadf4041cf00098c6590cfbae02
X-WR-TIMEZONE:America/New_York
BEGIN:VTIMEZONE
TZID:America/New_York
BEGIN:STANDARD
TZNAME:EST
DTSTART:20241103T020000
TZOFFSETFROM:-0400
TZOFFSETTO:-0500
RDATE:20251102T020000
RDATE:20261101T020000
END:STANDARD
BEGIN:DAYLIGHT
TZNAME:EDT
DTSTART:20250309T020000
TZOFFSETFROM:-0500
TZOFFSETTO:-0400
RDATE:20260308T020000
END:DAYLIGHT
END:VTIMEZONE
BEGIN:VEVENT
UID:800865d5-d2e9-4b1b-8dbc-1cfd296e3b36
DTSTAMP:20260421T105806Z
DESCRIPTION:Join us on select Fridays through the summer for Decades of Fun
 !\nName That Tunes: (50s Edition): We will Play short snippets of 50s hits
  and have people guess the song and artist.
DTSTART;TZID=America/New_York:20250725T130000
DTEND;TZID=America/New_York:20250725T160000
LOCATION:
SUMMARY:Fun Friday: Decades of Fun - 1950s - Name That Tune (In Center)
END:VEVENT
END:VCALENDAR
