BEGIN:VCALENDAR
VERSION:2.0
PRODID:-//rssny.org//NONSGML kigkonsult.se iCalcreator 2.30.10//
CALSCALE:GREGORIAN
METHOD:PUBLISH
UID:644e1634-86b9-4c3e-a231-06b4733c302d
X-WR-CALDESC:
X-WR-RELCALID:2e92af03d24035d070d964c29f9ed1aa
X-WR-TIMEZONE:America/New_York
BEGIN:VTIMEZONE
TZID:America/New_York
BEGIN:STANDARD
TZNAME:EST
DTSTART:20241103T020000
TZOFFSETFROM:-0400
TZOFFSETTO:-0500
RDATE:20251102T020000
RDATE:20261101T020000
END:STANDARD
BEGIN:DAYLIGHT
TZNAME:EDT
DTSTART:20250309T020000
TZOFFSETFROM:-0500
TZOFFSETTO:-0400
RDATE:20260308T020000
END:DAYLIGHT
END:VTIMEZONE
BEGIN:VEVENT
UID:04887c68-558d-449d-92bc-246e47a39c35
DTSTAMP:20260421T104517Z
DESCRIPTION:
DTSTART;TZID=America/New_York:20250721T120000
DTEND;TZID=America/New_York:20250721T130000
LOCATION:2600 Netherland Avenue\, Bronx\, NY 10463 US
SUMMARY:Lunch In Center
END:VEVENT
END:VCALENDAR
