BEGIN:VCALENDAR
VERSION:2.0
PRODID:-//rssny.org//NONSGML kigkonsult.se iCalcreator 2.30.10//
CALSCALE:GREGORIAN
METHOD:PUBLISH
UID:2cea2ce4-f652-43a7-96e6-1ac25c1b1c64
X-WR-CALDESC:Join us for breakfast at the Center!
X-WR-RELCALID:17da1ce488864fb2a426d912b57f92c5
X-WR-TIMEZONE:America/New_York
BEGIN:VTIMEZONE
TZID:America/New_York
BEGIN:STANDARD
TZNAME:EST
DTSTART:20241103T020000
TZOFFSETFROM:-0400
TZOFFSETTO:-0500
RDATE:20251102T020000
RDATE:20261101T020000
END:STANDARD
BEGIN:DAYLIGHT
TZNAME:EDT
DTSTART:20250309T020000
TZOFFSETFROM:-0500
TZOFFSETTO:-0400
RDATE:20260308T020000
END:DAYLIGHT
END:VTIMEZONE
BEGIN:VEVENT
UID:4ce3f2c7-1f6a-43cc-a613-f8ff60ba899e
DTSTAMP:20260421T104744Z
DESCRIPTION:Join us for breakfast at the Center!
DTSTART;TZID=America/New_York:20250716T090000
DTEND;TZID=America/New_York:20250716T100000
LOCATION:
SUMMARY:Breakfast Club (In Center)
END:VEVENT
END:VCALENDAR
