BEGIN:VCALENDAR
VERSION:2.0
PRODID:-//rssny.org//NONSGML kigkonsult.se iCalcreator 2.30.10//
CALSCALE:GREGORIAN
METHOD:PUBLISH
UID:2b930a8f-2cd6-4a85-a3fd-0f86f38d700d
X-WR-CALDESC:\n
X-WR-RELCALID:229a2f7a8245e2fbf8b23358290994e5
X-WR-TIMEZONE:America/New_York
BEGIN:VTIMEZONE
TZID:America/New_York
BEGIN:STANDARD
TZNAME:EST
DTSTART:20241103T020000
TZOFFSETFROM:-0400
TZOFFSETTO:-0500
RDATE:20251102T020000
RDATE:20261101T020000
END:STANDARD
BEGIN:DAYLIGHT
TZNAME:EDT
DTSTART:20250309T020000
TZOFFSETFROM:-0500
TZOFFSETTO:-0400
RDATE:20260308T020000
END:DAYLIGHT
END:VTIMEZONE
BEGIN:VEVENT
UID:9c300b86-c16e-48bd-8dff-39b6fa12dc60
DTSTAMP:20260421T103759Z
DESCRIPTION:\n
DTSTART;TZID=America/New_York:20250715T100000
DTEND;TZID=America/New_York:20250715T110000
LOCATION:
SUMMARY:Blood Pressure Testing (In Center
END:VEVENT
END:VCALENDAR
