BEGIN:VCALENDAR
VERSION:2.0
PRODID:-//rssny.org//NONSGML kigkonsult.se iCalcreator 2.30.10//
CALSCALE:GREGORIAN
METHOD:PUBLISH
UID:24079142-c6ef-4e84-b17a-5195c23e1a43
X-WR-CALDESC:Weekly non-competitive bridge game
X-WR-RELCALID:8895118b96d72bb44bfeb612018e0077
X-WR-TIMEZONE:America/New_York
BEGIN:VTIMEZONE
TZID:America/New_York
BEGIN:STANDARD
TZNAME:EST
DTSTART:20241103T020000
TZOFFSETFROM:-0400
TZOFFSETTO:-0500
RDATE:20251102T020000
RDATE:20261101T020000
END:STANDARD
BEGIN:DAYLIGHT
TZNAME:EDT
DTSTART:20250309T020000
TZOFFSETFROM:-0500
TZOFFSETTO:-0400
RDATE:20260308T020000
END:DAYLIGHT
END:VTIMEZONE
BEGIN:VEVENT
UID:21cc2a03-c432-4c02-b4b1-f2319bf20036
DTSTAMP:20260421T104742Z
DESCRIPTION:Weekly non-competitive bridge game
DTSTART;TZID=America/New_York:20250711T140000
DTEND;TZID=America/New_York:20250711T163000
LOCATION:
SUMMARY:Leisure Games Bridge (In Center)
END:VEVENT
END:VCALENDAR
