BEGIN:VCALENDAR
VERSION:2.0
PRODID:-//rssny.org//NONSGML kigkonsult.se iCalcreator 2.30.10//
CALSCALE:GREGORIAN
METHOD:PUBLISH
UID:b28ee836-5349-4241-a8c5-0f8609f64500
X-WR-CALDESC:
X-WR-RELCALID:437762f2c63fa15df5cf2991bea6f609
X-WR-TIMEZONE:America/New_York
BEGIN:VTIMEZONE
TZID:America/New_York
BEGIN:STANDARD
TZNAME:EST
DTSTART:20241103T020000
TZOFFSETFROM:-0400
TZOFFSETTO:-0500
RDATE:20251102T020000
RDATE:20261101T020000
END:STANDARD
BEGIN:DAYLIGHT
TZNAME:EDT
DTSTART:20250309T020000
TZOFFSETFROM:-0500
TZOFFSETTO:-0400
RDATE:20260308T020000
END:DAYLIGHT
END:VTIMEZONE
BEGIN:VEVENT
UID:a8ca0ddb-33e5-45a4-bd37-1e8e08845b51
DTSTAMP:20260421T110104Z
DESCRIPTION:
DTSTART;TZID=America/New_York:20250709T130000
DTEND;TZID=America/New_York:20250709T150000
LOCATION:
SUMMARY:Movies In Center: The best years of our lives
END:VEVENT
END:VCALENDAR
