BEGIN:VCALENDAR
VERSION:2.0
PRODID:-//rssny.org//NONSGML kigkonsult.se iCalcreator 2.30.10//
CALSCALE:GREGORIAN
METHOD:PUBLISH
UID:efbdf51c-036a-4afd-9de9-23e2b42c8715
X-WR-CALDESC:Mikhail Baryshnikov\, Latvian and American dancer\, choreograp
 her\, and actor\nhttps://en.wikipedia.org/wiki/Mikhail_Baryshnikov\n\n\n\n
X-WR-RELCALID:9c284a241e6bde21d7bde27702adcb40
X-WR-TIMEZONE:America/New_York
BEGIN:VTIMEZONE
TZID:America/New_York
BEGIN:STANDARD
TZNAME:EST
DTSTART:20241103T020000
TZOFFSETFROM:-0400
TZOFFSETTO:-0500
RDATE:20251102T020000
RDATE:20261101T020000
END:STANDARD
BEGIN:DAYLIGHT
TZNAME:EDT
DTSTART:20250309T020000
TZOFFSETFROM:-0500
TZOFFSETTO:-0400
RDATE:20260308T020000
END:DAYLIGHT
END:VTIMEZONE
BEGIN:VEVENT
UID:f0367483-7234-49c2-8853-aec74001e934
DTSTAMP:20260421T105505Z
DESCRIPTION:Mikhail Baryshnikov\, Latvian and American dancer\, choreograph
 er\, and actor\nhttps://en.wikipedia.org/wiki/Mikhail_Baryshnikov\n\n\n\n
DTSTART;TZID=America/New_York:20250706T160000
DTEND;TZID=America/New_York:20250706T171500
LOCATION:https://rssny.org/music_appreciation.html
SUMMARY:Music Appreciation with Diana: Mikhail Baryshnikov (Online)
END:VEVENT
END:VCALENDAR
