BEGIN:VCALENDAR
VERSION:2.0
PRODID:-//rssny.org//NONSGML kigkonsult.se iCalcreator 2.30.10//
CALSCALE:GREGORIAN
METHOD:PUBLISH
UID:2006045a-89a7-4412-8702-2a48ef47c63a
X-WR-CALDESC:
X-WR-RELCALID:4cce62e608dff6006f67c869685ea8e0
X-WR-TIMEZONE:America/New_York
BEGIN:VTIMEZONE
TZID:America/New_York
BEGIN:STANDARD
TZNAME:EST
DTSTART:20241103T020000
TZOFFSETFROM:-0400
TZOFFSETTO:-0500
RDATE:20251102T020000
RDATE:20261101T020000
END:STANDARD
BEGIN:DAYLIGHT
TZNAME:EDT
DTSTART:20250309T020000
TZOFFSETFROM:-0500
TZOFFSETTO:-0400
RDATE:20260308T020000
END:DAYLIGHT
END:VTIMEZONE
BEGIN:VEVENT
UID:74819751-92d5-4fcc-a12e-572c64869286
DTSTAMP:20260421T105612Z
DESCRIPTION:
DTSTART;TZID=America/New_York:20250704T060000
DTEND;TZID=America/New_York:20250704T060001
LOCATION:
SUMMARY:CENTER CLOSED (Happy 4th of July)
END:VEVENT
END:VCALENDAR
