BEGIN:VCALENDAR
VERSION:2.0
PRODID:-//rssny.org//NONSGML kigkonsult.se iCalcreator 2.30.10//
CALSCALE:GREGORIAN
METHOD:PUBLISH
UID:61536b8f-e470-4283-8a05-98a0aa5ec8af
X-WR-CALDESC:Weekly non-competitive bridge game
X-WR-RELCALID:b65fd57d448372d7adfab25c2197e568
X-WR-TIMEZONE:America/New_York
BEGIN:VTIMEZONE
TZID:America/New_York
BEGIN:STANDARD
TZNAME:EST
DTSTART:20241103T020000
TZOFFSETFROM:-0400
TZOFFSETTO:-0500
RDATE:20251102T020000
RDATE:20261101T020000
END:STANDARD
BEGIN:DAYLIGHT
TZNAME:EDT
DTSTART:20250309T020000
TZOFFSETFROM:-0500
TZOFFSETTO:-0400
RDATE:20260308T020000
END:DAYLIGHT
END:VTIMEZONE
BEGIN:VEVENT
UID:08f235af-809b-458c-9bb2-420ed8ecd083
DTSTAMP:20260421T105332Z
DESCRIPTION:Weekly non-competitive bridge game
DTSTART;TZID=America/New_York:20250704T140000
DTEND;TZID=America/New_York:20250704T163000
LOCATION:
SUMMARY:Leisure Games Bridge (In Center)
END:VEVENT
END:VCALENDAR
