BEGIN:VCALENDAR
VERSION:2.0
PRODID:-//rssny.org//NONSGML kigkonsult.se iCalcreator 2.30.10//
CALSCALE:GREGORIAN
METHOD:PUBLISH
UID:65558193-11b0-4f2c-b8b1-9e60edb7564a
X-WR-CALDESC:Join us for breakfast at the Center!
X-WR-RELCALID:ccb1184ce7eba0a51fb45ceb4d3214c3
X-WR-TIMEZONE:America/New_York
BEGIN:VTIMEZONE
TZID:America/New_York
BEGIN:STANDARD
TZNAME:EST
DTSTART:20241103T020000
TZOFFSETFROM:-0400
TZOFFSETTO:-0500
RDATE:20251102T020000
RDATE:20261101T020000
END:STANDARD
BEGIN:DAYLIGHT
TZNAME:EDT
DTSTART:20250309T020000
TZOFFSETFROM:-0500
TZOFFSETTO:-0400
RDATE:20260308T020000
END:DAYLIGHT
END:VTIMEZONE
BEGIN:VEVENT
UID:fe51d8af-16cd-4379-a531-d6080befb109
DTSTAMP:20260421T104621Z
DESCRIPTION:Join us for breakfast at the Center!
DTSTART;TZID=America/New_York:20250702T090000
DTEND;TZID=America/New_York:20250702T100000
LOCATION:
SUMMARY:Breakfast Club (In Center)
END:VEVENT
END:VCALENDAR
