BEGIN:VCALENDAR
VERSION:2.0
PRODID:-//rssny.org//NONSGML kigkonsult.se iCalcreator 2.30.10//
CALSCALE:GREGORIAN
METHOD:PUBLISH
UID:fb3b7432-dfe9-44c8-9c23-65ee9912c905
X-WR-CALDESC:REGISTER HERE: https://rssny.org/class-forms/technology-classe
 s.html\n\nThis class is online.\nLevel: Beginner\n\nThis session is led by
  Tabitha Rosa\, Virtual Programs Coordinator and Tech Specialist.
X-WR-RELCALID:6e7658b7c9064840c8333a1d540930de
X-WR-TIMEZONE:America/New_York
BEGIN:VTIMEZONE
TZID:America/New_York
BEGIN:STANDARD
TZNAME:EST
DTSTART:20241103T020000
TZOFFSETFROM:-0400
TZOFFSETTO:-0500
RDATE:20251102T020000
RDATE:20261101T020000
END:STANDARD
BEGIN:DAYLIGHT
TZNAME:EDT
DTSTART:20250309T020000
TZOFFSETFROM:-0500
TZOFFSETTO:-0400
RDATE:20260308T020000
END:DAYLIGHT
END:VTIMEZONE
BEGIN:VEVENT
UID:178858aa-e5b4-49f0-97bd-ad94dfbf9831
DTSTAMP:20260423T085047Z
DESCRIPTION:REGISTER HERE: https://rssny.org/class-forms/technology-classes
 .html\n\nThis class is online.\nLevel: Beginner\n\nThis session is led by 
 Tabitha Rosa\, Virtual Programs Coordinator and Tech Specialist.
DTSTART;TZID=America/New_York:20250626T110000
DTEND;TZID=America/New_York:20250626T120000
LOCATION:https://rssny.org/class-forms/technology-classes.html
SUMMARY:Tech How-To's: Digital Declutter  (ONLINE)
END:VEVENT
END:VCALENDAR
