BEGIN:VCALENDAR
VERSION:2.0
PRODID:-//rssny.org//NONSGML kigkonsult.se iCalcreator 2.30.10//
CALSCALE:GREGORIAN
METHOD:PUBLISH
UID:86d9ad95-c395-4614-8f8d-3ec91224e3c7
X-WR-CALDESC:Learn to speak English confidently in a fun and supportive env
 ironment. Our classes are designed for people of all levels\, and we focus
  on everyday conversation topics.
X-WR-RELCALID:0f9accc20f6ee71e91d16663fe3bf647
X-WR-TIMEZONE:America/New_York
BEGIN:VTIMEZONE
TZID:America/New_York
BEGIN:STANDARD
TZNAME:EST
DTSTART:20241103T020000
TZOFFSETFROM:-0400
TZOFFSETTO:-0500
RDATE:20251102T020000
RDATE:20261101T020000
END:STANDARD
BEGIN:DAYLIGHT
TZNAME:EDT
DTSTART:20250309T020000
TZOFFSETFROM:-0500
TZOFFSETTO:-0400
RDATE:20260308T020000
END:DAYLIGHT
END:VTIMEZONE
BEGIN:VEVENT
UID:79a7068b-a745-4c9f-aca3-e5e33d03a17d
DTSTAMP:20260423T090218Z
DESCRIPTION:Learn to speak English confidently in a fun and supportive envi
 ronment. Our classes are designed for people of all levels\, and we focus 
 on everyday conversation topics.
DTSTART;TZID=America/New_York:20250626T093000
DTEND;TZID=America/New_York:20250626T103000
LOCATION:
SUMMARY:Conversational English (In Center)
END:VEVENT
END:VCALENDAR
