BEGIN:VCALENDAR
VERSION:2.0
PRODID:-//rssny.org//NONSGML kigkonsult.se iCalcreator 2.30.10//
CALSCALE:GREGORIAN
METHOD:PUBLISH
UID:afa750df-8622-47ed-aa45-d7d50c3f4075
X-WR-CALDESC:Weekly non-competitive bridge game
X-WR-RELCALID:6a8a1c269d3b652af9bf0ad60f9b506a
X-WR-TIMEZONE:America/New_York
BEGIN:VTIMEZONE
TZID:America/New_York
BEGIN:STANDARD
TZNAME:EST
DTSTART:20241103T020000
TZOFFSETFROM:-0400
TZOFFSETTO:-0500
RDATE:20251102T020000
RDATE:20261101T020000
END:STANDARD
BEGIN:DAYLIGHT
TZNAME:EDT
DTSTART:20250309T020000
TZOFFSETFROM:-0500
TZOFFSETTO:-0400
RDATE:20260308T020000
END:DAYLIGHT
END:VTIMEZONE
BEGIN:VEVENT
UID:d8e742be-4d68-4f1d-aeb4-d5d39311d29a
DTSTAMP:20260423T090218Z
DESCRIPTION:Weekly non-competitive bridge game
DTSTART;TZID=America/New_York:20250620T140000
DTEND;TZID=America/New_York:20250620T163000
LOCATION:
SUMMARY:Leisure Games Bridge (In Center)
END:VEVENT
END:VCALENDAR
