BEGIN:VCALENDAR
VERSION:2.0
PRODID:-//rssny.org//NONSGML kigkonsult.se iCalcreator 2.30.10//
CALSCALE:GREGORIAN
METHOD:PUBLISH
UID:90da94ba-c82e-43a4-a0d0-77e72a7c3114
X-WR-CALDESC:
X-WR-RELCALID:8de620768b47deab32bf3dcbbd84cf75
X-WR-TIMEZONE:America/New_York
BEGIN:VTIMEZONE
TZID:America/New_York
BEGIN:STANDARD
TZNAME:EST
DTSTART:20241103T020000
TZOFFSETFROM:-0400
TZOFFSETTO:-0500
RDATE:20251102T020000
RDATE:20261101T020000
END:STANDARD
BEGIN:DAYLIGHT
TZNAME:EDT
DTSTART:20250309T020000
TZOFFSETFROM:-0500
TZOFFSETTO:-0400
RDATE:20260308T020000
END:DAYLIGHT
END:VTIMEZONE
BEGIN:VEVENT
UID:b4dcac68-091b-460c-b067-865e6db36897
DTSTAMP:20260423T091154Z
DESCRIPTION:
DTSTART;TZID=America/New_York:20250618T140000
DTEND;TZID=America/New_York:20250618T150000
LOCATION:
SUMMARY:Movies In Center
END:VEVENT
END:VCALENDAR
