BEGIN:VCALENDAR
VERSION:2.0
PRODID:-//rssny.org//NONSGML kigkonsult.se iCalcreator 2.30.10//
CALSCALE:GREGORIAN
METHOD:PUBLISH
UID:7ab7d502-c4dd-4acd-afca-ae0fc242aca9
X-WR-CALDESC:
X-WR-RELCALID:d5f2879557cdbd73842978eb2e1b08eb
X-WR-TIMEZONE:America/New_York
BEGIN:VTIMEZONE
TZID:America/New_York
BEGIN:STANDARD
TZNAME:EST
DTSTART:20241103T020000
TZOFFSETFROM:-0400
TZOFFSETTO:-0500
RDATE:20251102T020000
RDATE:20261101T020000
END:STANDARD
BEGIN:DAYLIGHT
TZNAME:EDT
DTSTART:20250309T020000
TZOFFSETFROM:-0500
TZOFFSETTO:-0400
RDATE:20260308T020000
END:DAYLIGHT
END:VTIMEZONE
BEGIN:VEVENT
UID:65ba93ce-3f01-42c6-93b0-33964dbed2a7
DTSTAMP:20260423T090757Z
DESCRIPTION:
DTSTART;TZID=America/New_York:20250617T090000
DTEND;TZID=America/New_York:20250617T120000
LOCATION:
SUMMARY:Bake Sale (In Center)
END:VEVENT
END:VCALENDAR
