BEGIN:VCALENDAR
VERSION:2.0
PRODID:-//rssny.org//NONSGML kigkonsult.se iCalcreator 2.30.10//
CALSCALE:GREGORIAN
METHOD:PUBLISH
UID:51bf9bc2-7c76-4a38-b013-0779bd48d540
X-WR-CALDESC:
X-WR-RELCALID:9cf93665c31f26048c66bc1608d44507
X-WR-TIMEZONE:America/New_York
BEGIN:VTIMEZONE
TZID:America/New_York
BEGIN:STANDARD
TZNAME:EST
DTSTART:20241103T020000
TZOFFSETFROM:-0400
TZOFFSETTO:-0500
RDATE:20251102T020000
RDATE:20261101T020000
END:STANDARD
BEGIN:DAYLIGHT
TZNAME:EDT
DTSTART:20250309T020000
TZOFFSETFROM:-0500
TZOFFSETTO:-0400
RDATE:20260308T020000
END:DAYLIGHT
END:VTIMEZONE
BEGIN:VEVENT
UID:60cb459e-049e-44c8-8eed-353765a86e34
DTSTAMP:20260423T085938Z
DESCRIPTION:
DTSTART;TZID=America/New_York:20250604T150000
DTEND;TZID=America/New_York:20250604T160000
LOCATION:
SUMMARY:Rag Time Sing Along with Doug
END:VEVENT
END:VCALENDAR
