BEGIN:VCALENDAR
VERSION:2.0
PRODID:-//rssny.org//NONSGML kigkonsult.se iCalcreator 2.30.10//
CALSCALE:GREGORIAN
METHOD:PUBLISH
UID:1ee2b5ee-14ab-4c59-9081-fe061e445296
X-WR-CALDESC:To register online: https://rssny.org/class-forms/health-talks
 .html\n\nJoin us as Dr. Gleb Kartsev\, PT\, DPT\, CI\, CKTP\, STMT-C with 
 Hudson Physical Therapy\,
X-WR-RELCALID:c385cf88e5e5f1c7f3dc98f719572175
X-WR-TIMEZONE:America/New_York
BEGIN:VTIMEZONE
TZID:America/New_York
BEGIN:STANDARD
TZNAME:EST
DTSTART:20241103T020000
TZOFFSETFROM:-0400
TZOFFSETTO:-0500
RDATE:20251102T020000
RDATE:20261101T020000
END:STANDARD
BEGIN:DAYLIGHT
TZNAME:EDT
DTSTART:20250309T020000
TZOFFSETFROM:-0500
TZOFFSETTO:-0400
RDATE:20260308T020000
END:DAYLIGHT
END:VTIMEZONE
BEGIN:VEVENT
UID:e0c5a4d2-df0d-4cb5-b6bf-5304a2c0b8db
DTSTAMP:20260423T090405Z
DESCRIPTION:To register online: https://rssny.org/class-forms/health-talks.
 html\n\nJoin us as Dr. Gleb Kartsev\, PT\, DPT\, CI\, CKTP\, STMT-C with H
 udson Physical Therapy\,
DTSTART;TZID=America/New_York:20250603T131500
DTEND;TZID=America/New_York:20250603T141500
LOCATION:https://rssny.org/class-forms/health-talks.html
SUMMARY:Hudson Rehabilitation: How Physical Therapy can help with Headaches
  & Migraines (Hybrid)
END:VEVENT
END:VCALENDAR
