BEGIN:VCALENDAR
VERSION:2.0
PRODID:-//rssny.org//NONSGML kigkonsult.se iCalcreator 2.30.10//
CALSCALE:GREGORIAN
METHOD:PUBLISH
UID:f2e0d11a-e70f-4ddd-8771-5ff7ba6f4664
X-WR-CALDESC:
X-WR-RELCALID:fbe6845243d3fb8b402ae8ecfad0ce7c
X-WR-TIMEZONE:America/New_York
BEGIN:VTIMEZONE
TZID:America/New_York
BEGIN:STANDARD
TZNAME:EST
DTSTART:20241103T020000
TZOFFSETFROM:-0400
TZOFFSETTO:-0500
RDATE:20251102T020000
RDATE:20261101T020000
END:STANDARD
BEGIN:DAYLIGHT
TZNAME:EDT
DTSTART:20250309T020000
TZOFFSETFROM:-0500
TZOFFSETTO:-0400
RDATE:20260308T020000
END:DAYLIGHT
END:VTIMEZONE
BEGIN:VEVENT
UID:505f7ae3-7c7e-4b47-9f1b-4b7557d2c478
DTSTAMP:20260423T085356Z
DESCRIPTION:
DTSTART;TZID=America/New_York:20250603T100000
DTEND;TZID=America/New_York:20250603T110000
LOCATION:
SUMMARY:Memoir Writing with Donald (In Center)
END:VEVENT
END:VCALENDAR
