BEGIN:VCALENDAR
VERSION:2.0
PRODID:-//rssny.org//NONSGML kigkonsult.se iCalcreator 2.30.10//
CALSCALE:GREGORIAN
METHOD:PUBLISH
UID:20227648-7293-4064-9db1-707b79b06785
X-WR-CALDESC:Weekly non-competitive bridge game
X-WR-RELCALID:f109ab915da2bad60213b39c06869558
X-WR-TIMEZONE:America/New_York
BEGIN:VTIMEZONE
TZID:America/New_York
BEGIN:STANDARD
TZNAME:EST
DTSTART:20241103T020000
TZOFFSETFROM:-0400
TZOFFSETTO:-0500
RDATE:20251102T020000
RDATE:20261101T020000
END:STANDARD
BEGIN:DAYLIGHT
TZNAME:EDT
DTSTART:20250309T020000
TZOFFSETFROM:-0500
TZOFFSETTO:-0400
RDATE:20260308T020000
END:DAYLIGHT
END:VTIMEZONE
BEGIN:VEVENT
UID:5e61339e-3bbc-45c5-a6f4-99c6f06367d0
DTSTAMP:20260423T101335Z
DESCRIPTION:Weekly non-competitive bridge game
DTSTART;TZID=America/New_York:20250530T140000
DTEND;TZID=America/New_York:20250530T163000
LOCATION:
SUMMARY:Leisure Games Bridge (In Center)
END:VEVENT
END:VCALENDAR
