BEGIN:VCALENDAR
VERSION:2.0
PRODID:-//rssny.org//NONSGML kigkonsult.se iCalcreator 2.30.10//
CALSCALE:GREGORIAN
METHOD:PUBLISH
UID:dcf58a22-ec41-4e74-9dca-595d76dcb34e
X-WR-CALDESC:
X-WR-RELCALID:ef744ea3ec1d207a8e1e8529ac8251c7
X-WR-TIMEZONE:America/New_York
BEGIN:VTIMEZONE
TZID:America/New_York
BEGIN:STANDARD
TZNAME:EST
DTSTART:20241103T020000
TZOFFSETFROM:-0400
TZOFFSETTO:-0500
RDATE:20251102T020000
RDATE:20261101T020000
END:STANDARD
BEGIN:DAYLIGHT
TZNAME:EDT
DTSTART:20250309T020000
TZOFFSETFROM:-0500
TZOFFSETTO:-0400
RDATE:20260308T020000
END:DAYLIGHT
END:VTIMEZONE
BEGIN:VEVENT
UID:e4e187b3-96de-489d-b09b-c3cda94877f5
DTSTAMP:20260423T103356Z
DESCRIPTION:
DTSTART;TZID=America/New_York:20250528T103000
DTEND;TZID=America/New_York:20250528T113000
LOCATION:https://rssny.org/class-forms/art-deco.html
SUMMARY:Dawn of a New Day: Public Spaces and Places Presented by the Art De
 co Society of New York (Hybrid)
END:VEVENT
END:VCALENDAR
