BEGIN:VCALENDAR
VERSION:2.0
PRODID:-//rssny.org//NONSGML kigkonsult.se iCalcreator 2.30.10//
CALSCALE:GREGORIAN
METHOD:PUBLISH
UID:07658c87-3ee8-4997-b5f1-29f112c7c04c
X-WR-CALDESC:
X-WR-RELCALID:19ed11a998ded3f68af54181470a526a
X-WR-TIMEZONE:America/New_York
BEGIN:VTIMEZONE
TZID:America/New_York
BEGIN:STANDARD
TZNAME:EST
DTSTART:20241103T020000
TZOFFSETFROM:-0400
TZOFFSETTO:-0500
RDATE:20251102T020000
RDATE:20261101T020000
END:STANDARD
BEGIN:DAYLIGHT
TZNAME:EDT
DTSTART:20250309T020000
TZOFFSETFROM:-0500
TZOFFSETTO:-0400
RDATE:20260308T020000
END:DAYLIGHT
END:VTIMEZONE
BEGIN:VEVENT
UID:7cf661a0-0e81-4dbd-9d79-de645d98229d
DTSTAMP:20260423T104037Z
DESCRIPTION:
DTSTART;TZID=America/New_York:20250528T120000
DTEND;TZID=America/New_York:20250528T130000
LOCATION:
SUMMARY:Lunch In Center: Birthday Party with DJ
END:VEVENT
END:VCALENDAR
