BEGIN:VCALENDAR
VERSION:2.0
PRODID:-//rssny.org//NONSGML kigkonsult.se iCalcreator 2.30.10//
CALSCALE:GREGORIAN
METHOD:PUBLISH
UID:a5ba08fc-8773-4e41-9282-95a138475a35
X-WR-CALDESC:Weekly non-competitive bridge game
X-WR-RELCALID:df8826b75226b2549d800a1f7940eac2
X-WR-TIMEZONE:America/New_York
BEGIN:VTIMEZONE
TZID:America/New_York
BEGIN:STANDARD
TZNAME:EST
DTSTART:20241103T020000
TZOFFSETFROM:-0400
TZOFFSETTO:-0500
RDATE:20251102T020000
RDATE:20261101T020000
END:STANDARD
BEGIN:DAYLIGHT
TZNAME:EDT
DTSTART:20250309T020000
TZOFFSETFROM:-0500
TZOFFSETTO:-0400
RDATE:20260308T020000
END:DAYLIGHT
END:VTIMEZONE
BEGIN:VEVENT
UID:814e79f5-f75f-425a-ba8b-6349caccb215
DTSTAMP:20260423T101342Z
DESCRIPTION:Weekly non-competitive bridge game
DTSTART;TZID=America/New_York:20250523T140000
DTEND;TZID=America/New_York:20250523T163000
LOCATION:
SUMMARY:Leisure Games Bridge (In Center)
END:VEVENT
END:VCALENDAR
