BEGIN:VCALENDAR
VERSION:2.0
PRODID:-//rssny.org//NONSGML kigkonsult.se iCalcreator 2.30.10//
CALSCALE:GREGORIAN
METHOD:PUBLISH
UID:e499e782-340a-4c4a-987e-1608a7284fbb
X-WR-CALDESC:
X-WR-RELCALID:42e6611c7d7d8e580ecea7e6424c4141
X-WR-TIMEZONE:America/New_York
BEGIN:VTIMEZONE
TZID:America/New_York
BEGIN:STANDARD
TZNAME:EST
DTSTART:20241103T020000
TZOFFSETFROM:-0400
TZOFFSETTO:-0500
RDATE:20251102T020000
RDATE:20261101T020000
END:STANDARD
BEGIN:DAYLIGHT
TZNAME:EDT
DTSTART:20250309T020000
TZOFFSETFROM:-0500
TZOFFSETTO:-0400
RDATE:20260308T020000
END:DAYLIGHT
END:VTIMEZONE
BEGIN:VEVENT
UID:00adcd13-377f-4b9f-bc51-82a2c089892f
DTSTAMP:20260423T101137Z
DESCRIPTION:
DTSTART;TZID=America/New_York:20250522T130000
DTEND;TZID=America/New_York:20250522T140000
LOCATION:
SUMMARY:Advisory Council - Invitation Only  (IN CENTER)
END:VEVENT
END:VCALENDAR
