BEGIN:VCALENDAR
VERSION:2.0
PRODID:-//rssny.org//NONSGML kigkonsult.se iCalcreator 2.30.10//
CALSCALE:GREGORIAN
METHOD:PUBLISH
UID:6619a6ba-cdf5-469a-ad1b-9111cc11b665
X-WR-CALDESC:
X-WR-RELCALID:7ed1e99c072eefd140a705fa81c5341b
X-WR-TIMEZONE:America/New_York
BEGIN:VTIMEZONE
TZID:America/New_York
BEGIN:STANDARD
TZNAME:EST
DTSTART:20241103T020000
TZOFFSETFROM:-0400
TZOFFSETTO:-0500
RDATE:20251102T020000
RDATE:20261101T020000
END:STANDARD
BEGIN:DAYLIGHT
TZNAME:EDT
DTSTART:20250309T020000
TZOFFSETFROM:-0500
TZOFFSETTO:-0400
RDATE:20260308T020000
END:DAYLIGHT
END:VTIMEZONE
BEGIN:VEVENT
UID:89d3a918-a7e5-4560-9e15-6b47b4b9464a
DTSTAMP:20260423T113856Z
DESCRIPTION:
DTSTART;TZID=America/New_York:20250521T083000
DTEND;TZID=America/New_York:20250521T090000
LOCATION:
SUMMARY:BIRTHDAY PARTY
END:VEVENT
END:VCALENDAR
