BEGIN:VCALENDAR
VERSION:2.0
PRODID:-//rssny.org//NONSGML kigkonsult.se iCalcreator 2.30.10//
CALSCALE:GREGORIAN
METHOD:PUBLISH
UID:cf360e7a-1477-4c64-b040-14e9dd72d8a9
X-WR-CALDESC:
X-WR-RELCALID:c1fca04d5eeec347868c5ab60d87743a
X-WR-TIMEZONE:America/New_York
BEGIN:VTIMEZONE
TZID:America/New_York
BEGIN:STANDARD
TZNAME:EST
DTSTART:20241103T020000
TZOFFSETFROM:-0400
TZOFFSETTO:-0500
RDATE:20251102T020000
RDATE:20261101T020000
END:STANDARD
BEGIN:DAYLIGHT
TZNAME:EDT
DTSTART:20250309T020000
TZOFFSETFROM:-0500
TZOFFSETTO:-0400
RDATE:20260308T020000
END:DAYLIGHT
END:VTIMEZONE
BEGIN:VEVENT
UID:a135abf0-cf09-4bc5-a121-ddce4fc4b4ae
DTSTAMP:20260423T101212Z
DESCRIPTION:
DTSTART;TZID=America/New_York:20250521T130000
DTEND;TZID=America/New_York:20250521T150000
LOCATION:
SUMMARY:Movies In Center
END:VEVENT
END:VCALENDAR
