BEGIN:VCALENDAR
VERSION:2.0
PRODID:-//rssny.org//NONSGML kigkonsult.se iCalcreator 2.30.10//
CALSCALE:GREGORIAN
METHOD:PUBLISH
UID:1ad427a6-103c-496f-8832-3c3166c6e78c
X-WR-CALDESC:If you are attending online\, click here to register - https:/
 /rssny.org/belly-dancing.html\n\nJoin Noora for belly dancing. Belly danci
 ng is a great way to get exercise\, practice balance and have fun!
X-WR-RELCALID:4764cf2771dc16a408908269c6f0895c
X-WR-TIMEZONE:America/New_York
BEGIN:VTIMEZONE
TZID:America/New_York
BEGIN:STANDARD
TZNAME:EST
DTSTART:20241103T020000
TZOFFSETFROM:-0400
TZOFFSETTO:-0500
RDATE:20251102T020000
RDATE:20261101T020000
END:STANDARD
BEGIN:DAYLIGHT
TZNAME:EDT
DTSTART:20250309T020000
TZOFFSETFROM:-0500
TZOFFSETTO:-0400
RDATE:20260308T020000
END:DAYLIGHT
END:VTIMEZONE
BEGIN:VEVENT
UID:502542f4-87e7-4e7c-a0fb-ae64651c7499
DTSTAMP:20260423T101138Z
DESCRIPTION:If you are attending online\, click here to register - https://
 rssny.org/belly-dancing.html\n\nJoin Noora for belly dancing. Belly dancin
 g is a great way to get exercise\, practice balance and have fun!
DTSTART;TZID=America/New_York:20250520T130000
DTEND;TZID=America/New_York:20250520T140000
LOCATION:
SUMMARY:Belly Dancing w/Noora (HYBRID)
END:VEVENT
END:VCALENDAR
